BEGIN:VCALENDAR
PRODID:-//Microsoft Corporation//Outlook MIMEDIR//EN
VERSION:2.0
METHOD:PUBLISH
BEGIN:VEVENT
DTSTART:20260505T180000
DTEND:20260505T190000
DESCRIPTION:CITY COUNCIL CHAMBER
LOCATION:
SUMMARY:City Council
CATEGORIES:MEETING
END:VEVENT
END:VCALENDAR
